BEGIN:VCALENDAR
VERSION:2.0
PRODID:-//eventon.com NONSGML v1.0//EN
BEGIN:VEVENT
UID:69ed4d5378b22
DTSTAMP:20260426T002507
DTSTART:20200705T100000Z
DTEND:20200707T160000Z
LOCATION:ZOOM ONLINE 
SUMMARY:YIN YOGA & MINDFULNESS MEDITATION TEACHER TRAINING - LEVEL II - SOLD OUT
DESCRIPTION: YIN YOGA & MINDFULNESS MEDITATION TEACHER TRAINING - LEVEL II This is an advanced yoga teacher training and is open to both yoga teachers and dedicated yoga practitioners who have undertaken an approved foundation yin yoga teacher training course and are in the process of advancing their yin skills and[..]
END:VEVENT
END:VCALENDAR